BEGIN:VCALENDAR
VERSION:2.0
PRODID:-//Berta International School - ECPv6.15.18//NONSGML v1.0//EN
CALSCALE:GREGORIAN
METHOD:PUBLISH
X-ORIGINAL-URL:https://bis.edu.py
X-WR-CALDESC:Eventos para Berta International School
REFRESH-INTERVAL;VALUE=DURATION:PT1H
X-Robots-Tag:noindex
X-PUBLISHED-TTL:PT1H
BEGIN:VTIMEZONE
TZID:America/Asuncion
BEGIN:STANDARD
TZOFFSETFROM:-0300
TZOFFSETTO:-0400
TZNAME:-04
DTSTART:20230326T030000
END:STANDARD
BEGIN:DAYLIGHT
TZOFFSETFROM:-0400
TZOFFSETTO:-0300
TZNAME:-03
DTSTART:20231001T040000
END:DAYLIGHT
BEGIN:STANDARD
TZOFFSETFROM:-0300
TZOFFSETTO:-0400
TZNAME:-04
DTSTART:20240324T030000
END:STANDARD
BEGIN:DAYLIGHT
TZOFFSETFROM:-0400
TZOFFSETTO:-0300
TZNAME:-03
DTSTART:20241006T040000
END:DAYLIGHT
BEGIN:STANDARD
TZOFFSETFROM:-0300
TZOFFSETTO:-0300
TZNAME:-03
DTSTART:20241015T030000
END:STANDARD
END:VTIMEZONE
BEGIN:VEVENT
DTSTART;TZID=America/Asuncion:20240426T080000
DTEND;TZID=America/Asuncion:20240426T100000
DTSTAMP:20260423T122248
CREATED:20240404T201039Z
LAST-MODIFIED:20240404T201039Z
UID:424-1714118400-1714125600@bis.edu.py
SUMMARY:Prueba de validación Kanguro
DESCRIPTION:
URL:https://bis.edu.py/evento/prueba-de-validacion-kanguro/
ATTACH;FMTTYPE=image/png:https://bis.edu.py/wp-content/uploads/2024/04/Banner-web-1.png
END:VEVENT
BEGIN:VEVENT
DTSTART;TZID=America/Asuncion:20240404T193000
DTEND;TZID=America/Asuncion:20240404T210000
DTSTAMP:20260423T122248
CREATED:20240403T174001Z
LAST-MODIFIED:20240412T161457Z
UID:372-1712259000-1712264400@bis.edu.py
SUMMARY:Inauguración de la nueva infraestructura institucional
DESCRIPTION:Estimados padres de familia:\nNos complace invitarles a la inauguración de la nueva infraestructura institucional.
URL:https://bis.edu.py/evento/innauguracion-de-la-nueva-infraestructura-institucional/
LOCATION:Predio de la institución
ATTACH;FMTTYPE=image/jpeg:https://bis.edu.py/wp-content/uploads/2024/04/New-BIS.jpg
END:VEVENT
END:VCALENDAR